BEGIN:VCALENDAR
VERSION:2.0
PRODID:-//wp-events-plugin.com//7.2.3.1//EN
BEGIN:VEVENT
UID:3@offroadportal.org
DTSTART;TZID=America/Los_Angeles;VALUE=DATE:20240118
DTEND;TZID=America/Los_Angeles;VALUE=DATE:20240204
DTSTAMP:20240111T185902Z
URL:https://offroadportal.org/events/2024-king-of-the-hammers/
SUMMARY:2024 King of the Hammers
DESCRIPTION:About this event\nThe toughest week of one-day\, off-road races
  in the world\, King of the Hammers. The race has evolved from 12 teams ra
 cing for bragging rights and a case of beer\, to more than 530 teams compe
 ting before more than 80\,000 fans in person and 2 million viewers online.
  Due to the incredible success of King of the Hammers\, Hammerking Product
 ions created the Ultra4Racing Series\, which has grown Internationally.\n\
 nOff Road organized by\nHammerking Productions\, Inc.
ATTACH;FMTTYPE=image/jpeg:https://offroadportal.org/wp-content/uploads/202
 3/12/download.jpeg
CATEGORIES:4x4 Events
LOCATION:Johnson Valley\, 6501 Boone Rd\, Landers\, CA 92285\, Landers\, CA
 \, 92285\, United States
GEO:34.368729;-116.545657
X-APPLE-STRUCTURED-LOCATION;VALUE=URI;X-ADDRESS=6501 Boone Rd\, Landers\, C
 A 92285\, Landers\, CA\, 92285\, United States;X-APPLE-RADIUS=100;X-TITLE=
 Johnson Valley:geo:34.368729,-116.545657
END:VEVENT
BEGIN:VTIMEZONE
TZID:America/Los_Angeles
X-LIC-LOCATION:America/Los_Angeles
BEGIN:STANDARD
DTSTART:20231105T010000
TZOFFSETFROM:-0700
TZOFFSETTO:-0800
TZNAME:PST
END:STANDARD
END:VTIMEZONE
END:VCALENDAR