BEGIN:VCALENDAR
VERSION:2.0
PRODID:-//wp-events-plugin.com//7.2.3.1//EN
BEGIN:VEVENT
UID:2@offroadportal.org
DTSTART;TZID=America/Los_Angeles:20240106T090000
DTEND;TZID=America/Los_Angeles:20240106T110000
DTSTAMP:20231221T061741Z
URL:https://offroadportal.org/events/4x4-cars-and-coffee/
SUMMARY:4x4 Cars and Coffee
DESCRIPTION:4x4 Cars and Coffee\nCome join us and meet some like minded peo
 ple next month for our monthly get together. All 4x4 vehicles are welcome!
  We’ll have coffee and donuts for everyone.
ATTACH;FMTTYPE=image/jpeg:https://offroadportal.org/wp-content/uploads/202
 3/12/Screenshot-2023-12-20-at-10.16.51 PM.png
CATEGORIES:4x4 Events
LOCATION:Scott Valley\, 5040 Scotts Valley Dr Ste A\, Scotts Valley\, 95066
 \, Scotts Valley\, CA\, 95066\, United States
GEO:37.05462;-122.011863
X-APPLE-STRUCTURED-LOCATION;VALUE=URI;X-ADDRESS=5040 Scotts Valley Dr Ste A
 \, Scotts Valley\, 95066\, Scotts Valley\, CA\, 95066\, United States;X-AP
 PLE-RADIUS=100;X-TITLE=Scott Valley:geo:37.05462,-122.011863
END:VEVENT
BEGIN:VTIMEZONE
TZID:America/Los_Angeles
X-LIC-LOCATION:America/Los_Angeles
BEGIN:STANDARD
DTSTART:20231105T010000
TZOFFSETFROM:-0700
TZOFFSETTO:-0800
TZNAME:PST
END:STANDARD
END:VTIMEZONE
END:VCALENDAR