BEGIN:VCALENDAR
VERSION:2.0
PRODID:-//wp-events-plugin.com//7.2.3.1//EN
BEGIN:VEVENT
UID:5@offroadportal.org
DTSTART:20240301T070000Z
DTEND:20240301T070000Z
DTSTAMP:20240111T185906Z
URL:https://offroadportal.org/events/expo-offroadrers/
SUMMARY:Salt Lake Off-Road and Outdoor Expo
DESCRIPTION:OFF-ROADERS UNITE!\nJoin us for the 9th annual Salt Lake Off-Ro
 ad &amp\; Outdoor Expo\n\nThis 2 Day event brings together Off-Roaders and
  promotes local off-road businesses. Check out cool stuff and get great d
 eals while getting in some off-road land use!\n\n&nbsp\;\nKIDS 12 AND UNDE
 R FREE OVER $40\,000 IN PRIZES GIVEN AWAY LAST YEAR!\n3 drawing times – 
 Friday 6pm\, Saturday 12pm &amp\; 6pm\; must be present to win.\n\nTickets
  available  online or at the door!
ATTACH;FMTTYPE=image/jpeg:https://offroadportal.org/wp-content/uploads/202
 3/12/images-1.jpeg
CATEGORIES:4x4 Events
LOCATION:https://slorex.com/
END:VEVENT
END:VCALENDAR