BEGIN:VCALENDAR
VERSION:2.0
PRODID:-//wp-events-plugin.com//7.2.3.1//EN
BEGIN:VEVENT
UID:1@offroadportal.org
DTSTART:20231221T230000Z
DTEND:20231222T020000Z
DTSTAMP:20231221T064141Z
URL:https://offroadportal.org/events/jeep-4x4-night-hosted-by-genright-off
 -road-and-mickey-thompson-tires/
SUMMARY:Jeep/4x4 Night hosted by GenRight Off-Road and Mickey Thompson Tire
 s
DESCRIPTION:Jeep/4x4 Night hosted by GenRight Off-Road and Mickey Thompson 
 Tires at Scooter’s Bar and Grill\nJeep/4x4 Night is hosted by GenRight O
 ff-Road and Mickey Thompson Tires. This month we are taking donations for 
 The Old Newsboys in preparation for Christmas. If you bring any new unwrap
 ped items to the jeep night event and hand it to one of us you will get an
  additional ticket for the raffle drawings that evening! Come out and help
  us support the community during the holiday season.\nScooter’s has an e
 xcellent menu and they are providing specials on food and drinks during th
 is event. We will have door prizes and you are encouraged to park your Jee
 p/4x4 on the grass hill. Please be respectful. If you choose to stay past 
 9pm\, you can enjoy or participate in the hilarious Fenech Feud (not kid a
 ppropriate). Please feel free to flag us down (Steve and Tammy). Looking f
 orward to seeing everyone soon!\n&nbsp\;
ATTACH;FMTTYPE=image/jpeg:https://offroadportal.org/wp-content/uploads/202
 3/12/138bb81e0ce086ce39f2b62a4a8de4a92b1ac183b0e22d3b726d5e7a3edd8c2c-rimg
 -w960-h504-gmir.jpg
CATEGORIES:4x4 Events
LOCATION:Scooters Bar & Grill\, 6004 Torrey Rd\, Flint\, MI 48507\, Flint\,
  MI\, 48507\, United States
GEO:42.943197;-83.732608
X-APPLE-STRUCTURED-LOCATION;VALUE=URI;X-ADDRESS=6004 Torrey Rd\, Flint\, MI
  48507\, Flint\, MI\, 48507\, United States;X-APPLE-RADIUS=100;X-TITLE=Sco
 oters Bar & Grill:geo:42.943197,-83.732608
END:VEVENT
END:VCALENDAR