BEGIN:VCALENDAR
VERSION:2.0
PRODID:-//wp-events-plugin.com//7.2.3.1//EN
BEGIN:VEVENT
UID:14@offroadportal.org
DTSTART;TZID=America/Los_Angeles:20240301T090000
DTEND;TZID=America/Los_Angeles:20240302T200000
DTSTAMP:20240301T041844Z
URL:https://offroadportal.org/events/salt-lake-offroad-outdoor-expo/
SUMMARY:Salt Lake Offroad & Outdoor Expo
DESCRIPTION:Come visit our booth at the Salt Lake Off-Road &amp\; Outdoor E
 xpo this weekend!!!! Friday 11am-9pm and Saturday 9am-8pm. All American Sh
 eds &amp\; Garages.
ATTACH;FMTTYPE=image/jpeg:https://offroadportal.org/wp-content/uploads/202
 4/02/IMG_9277.jpg
CATEGORIES:4x4 Events
END:VEVENT
BEGIN:VTIMEZONE
TZID:America/Los_Angeles
X-LIC-LOCATION:America/Los_Angeles
BEGIN:STANDARD
DTSTART:20231105T010000
TZOFFSETFROM:-0700
TZOFFSETTO:-0800
TZNAME:PST
END:STANDARD
END:VTIMEZONE
END:VCALENDAR