BEGIN:VCALENDAR
VERSION:2.0
PRODID:-//wp-events-plugin.com//7.2.3.1//EN
BEGIN:VEVENT
UID:4@offroadportal.org
DTSTART;TZID=America/Los_Angeles;VALUE=DATE:20240117
DTEND;TZID=America/Los_Angeles;VALUE=DATE:20240121
DTSTAMP:20240111T185901Z
URL:https://offroadportal.org/events/winter-4x4-jamboree/
SUMMARY:Winter 4×4 Jamboree
DESCRIPTION:Wednesday\, January 17 - Saturday\, January 20\, 2024\n\n\nWe
  invite you to join us for the Winter 4x4 Jamboree held in Hurricane/St. G
 eorge\, Utah\, (2 hours from Las Vegas)!\n\nThis spectacular event feature
 s world-class rock crawling or gentle scenic rides  combined with gorgeou
 s views of Zion National Park\, Pine Valley Mountain\, Sand Hollow Reservo
 ir and more. We offer more that 35 different trails in and around the sp
 ectacular Southwestern Utah area.\n\nThe Winter 4x4 Jamboree is a non-comp
 etitive trail run event for high clearance 4x4 vehicles where groups of pa
 rticipants are led on rated trails by experienced trail leaders and helper
 s. Trails are rated on a 10-point scale\, where a rating of 1 would be for
  graded roads that may be easily traveled by most cars and a rating of 10 
 is for purpose-built vehicles (buggies) with sophisticated suspensions and
  drivetrains operated by expert drivers.\n\nWe have fun and activities for
  your entire family!  There is a spectacular Vendor Show\, Food\, Raffles
  (both for kids and adults) and much\, much more...\n\nThe number of vehic
 les on each trail is limited to ensure participants have an enjoyable expe
 rience. Early registrants will have the most choices as we close trails wh
 en the limit is reached. More technical trails are limited to groups of 10
  and other trails may have up to 25 vehicles.\n\nThe Jamboree is for full-
 size vehicles (Jeep\, Toyota\, Bronco\, Samurai\, buggy etc.) only.  ATVs
  / UTVs / Dirt Bikes have different capabilities and would not be compatib
 le with the rest of the vehicles on any given trail.\n\nThe price per vehi
 cle per trail is $50\n
ATTACH;FMTTYPE=image/jpeg:https://offroadportal.org/wp-content/uploads/202
 3/12/Screenshot-2023-09-11-111839-e1694452772837.png
CATEGORIES:4x4 Events
LOCATION:https://winter4x4jamboree.com/event-details.cfm?eventid=18
END:VEVENT
BEGIN:VTIMEZONE
TZID:America/Los_Angeles
X-LIC-LOCATION:America/Los_Angeles
BEGIN:STANDARD
DTSTART:20231105T010000
TZOFFSETFROM:-0700
TZOFFSETTO:-0800
TZNAME:PST
END:STANDARD
END:VTIMEZONE
END:VCALENDAR